BEGIN:VCALENDAR
VERSION:2.0
PRODID:-//Church of St. Ignatius Loyola, NYC - ECPv6.15.20//NONSGML v1.0//EN
CALSCALE:GREGORIAN
METHOD:PUBLISH
X-WR-CALNAME:Church of St. Ignatius Loyola, NYC
X-ORIGINAL-URL:https://ignatius.nyc
X-WR-CALDESC:Events for Church of St. Ignatius Loyola, NYC
REFRESH-INTERVAL;VALUE=DURATION:PT1H
X-Robots-Tag:noindex
X-PUBLISHED-TTL:PT1H
BEGIN:VTIMEZONE
TZID:America/New_York
BEGIN:DAYLIGHT
TZOFFSETFROM:-0500
TZOFFSETTO:-0400
TZNAME:EDT
DTSTART:20240310T070000
END:DAYLIGHT
BEGIN:STANDARD
TZOFFSETFROM:-0400
TZOFFSETTO:-0500
TZNAME:EST
DTSTART:20241103T060000
END:STANDARD
BEGIN:DAYLIGHT
TZOFFSETFROM:-0500
TZOFFSETTO:-0400
TZNAME:EDT
DTSTART:20250309T070000
END:DAYLIGHT
BEGIN:STANDARD
TZOFFSETFROM:-0400
TZOFFSETTO:-0500
TZNAME:EST
DTSTART:20251102T060000
END:STANDARD
BEGIN:DAYLIGHT
TZOFFSETFROM:-0500
TZOFFSETTO:-0400
TZNAME:EDT
DTSTART:20260308T070000
END:DAYLIGHT
BEGIN:STANDARD
TZOFFSETFROM:-0400
TZOFFSETTO:-0500
TZNAME:EST
DTSTART:20261101T060000
END:STANDARD
END:VTIMEZONE
BEGIN:VEVENT
DTSTART;TZID=America/New_York:20250617T130000
DTEND;TZID=America/New_York:20250617T143000
DTSTAMP:20260423T042211
CREATED:20250602T152848Z
LAST-MODIFIED:20250602T152848Z
UID:10605-1750165200-1750170600@ignatius.nyc
SUMMARY:Destination City: A Gallery of New York's Most Surprising Visitors 
DESCRIPTION:Tuesday\, June 17th\n1 PM\nWallace Hall (enter through the Parish House at 980 Park Avenue)  \nPresenter: Robert Pigott\, Esq.\, Author \nDestination City presents surprising stories surrounding historical figures\, not usually associated with New York City\, but who spent key portions of their lives here. Vignettes recount incidents in the lives of hundreds of notable people\, including writers\, artists\, actors\, activists\, politicians\, revolutionaries\, scientists\, and more. Some of them received ticker-tape parades while others arrived penniless.  But all of them were marked by their time in New York City. \nJoin us and listen to the stories of some of New York City’s most surprising visitors. \nCopies of Destination City may be purchased directly from Columbia University Press online at CUP.columbia.edu for a 20% discount. Use Code CUP20. Mr. Pigott will gladly sign all copies of his book on June 17. \nRegistration is required at silcircleoffriends@gmail.com. There is no charge for this program\, but free offerings will be gratefully accepted.
URL:https://ignatius.nyc/event/destination-city-a-gallery-of-new-yorks-most-surprising-visitors/
LOCATION:Wallace Hall\, 980 Park Avenue\, New York\, NY\, 10028\, United States
END:VEVENT
END:VCALENDAR