BEGIN:VCALENDAR
VERSION:2.0
PRODID:-//Church of St. Ignatius Loyola, NYC - ECPv6.15.20//NONSGML v1.0//EN
CALSCALE:GREGORIAN
METHOD:PUBLISH
X-WR-CALNAME:Church of St. Ignatius Loyola, NYC
X-ORIGINAL-URL:https://ignatius.nyc
X-WR-CALDESC:Events for Church of St. Ignatius Loyola, NYC
REFRESH-INTERVAL;VALUE=DURATION:PT1H
X-Robots-Tag:noindex
X-PUBLISHED-TTL:PT1H
BEGIN:VTIMEZONE
TZID:America/New_York
BEGIN:DAYLIGHT
TZOFFSETFROM:-0500
TZOFFSETTO:-0400
TZNAME:EDT
DTSTART:20240310T070000
END:DAYLIGHT
BEGIN:STANDARD
TZOFFSETFROM:-0400
TZOFFSETTO:-0500
TZNAME:EST
DTSTART:20241103T060000
END:STANDARD
BEGIN:DAYLIGHT
TZOFFSETFROM:-0500
TZOFFSETTO:-0400
TZNAME:EDT
DTSTART:20250309T070000
END:DAYLIGHT
BEGIN:STANDARD
TZOFFSETFROM:-0400
TZOFFSETTO:-0500
TZNAME:EST
DTSTART:20251102T060000
END:STANDARD
BEGIN:DAYLIGHT
TZOFFSETFROM:-0500
TZOFFSETTO:-0400
TZNAME:EDT
DTSTART:20260308T070000
END:DAYLIGHT
BEGIN:STANDARD
TZOFFSETFROM:-0400
TZOFFSETTO:-0500
TZNAME:EST
DTSTART:20261101T060000
END:STANDARD
END:VTIMEZONE
BEGIN:VEVENT
DTSTART;VALUE=DATE:20250619
DTEND;VALUE=DATE:20250620
DTSTAMP:20260423T103257
CREATED:20250611T221307Z
LAST-MODIFIED:20250611T221307Z
UID:10619-1750291200-1750377599@ignatius.nyc
SUMMARY:Juneteenth Parish House & Mass Schedule
DESCRIPTION:The Parish House will be closed on Thursday\, June 19th\, in observance of Juneteenth. \nOne Mass will be celebrated at 8:30 AM. There will be no 12:10 PM or 5:30 PM Masses.
URL:https://ignatius.nyc/event/juneteenth-parish-house-mass-schedule/
LOCATION:NY
END:VEVENT
END:VCALENDAR