BEGIN:VCALENDAR
VERSION:2.0
PRODID:-//Church of St. Ignatius Loyola, NYC - ECPv6.15.20//NONSGML v1.0//EN
CALSCALE:GREGORIAN
METHOD:PUBLISH
X-ORIGINAL-URL:https://ignatius.nyc
X-WR-CALDESC:Events for Church of St. Ignatius Loyola, NYC
REFRESH-INTERVAL;VALUE=DURATION:PT1H
X-Robots-Tag:noindex
X-PUBLISHED-TTL:PT1H
BEGIN:VTIMEZONE
TZID:America/New_York
BEGIN:DAYLIGHT
TZOFFSETFROM:-0500
TZOFFSETTO:-0400
TZNAME:EDT
DTSTART:20200308T070000
END:DAYLIGHT
BEGIN:STANDARD
TZOFFSETFROM:-0400
TZOFFSETTO:-0500
TZNAME:EST
DTSTART:20201101T060000
END:STANDARD
BEGIN:DAYLIGHT
TZOFFSETFROM:-0500
TZOFFSETTO:-0400
TZNAME:EDT
DTSTART:20210314T070000
END:DAYLIGHT
BEGIN:STANDARD
TZOFFSETFROM:-0400
TZOFFSETTO:-0500
TZNAME:EST
DTSTART:20211107T060000
END:STANDARD
BEGIN:DAYLIGHT
TZOFFSETFROM:-0500
TZOFFSETTO:-0400
TZNAME:EDT
DTSTART:20220313T070000
END:DAYLIGHT
BEGIN:STANDARD
TZOFFSETFROM:-0400
TZOFFSETTO:-0500
TZNAME:EST
DTSTART:20221106T060000
END:STANDARD
END:VTIMEZONE
BEGIN:VEVENT
DTSTART;TZID=America/New_York:20211118T190000
DTEND;TZID=America/New_York:20211118T210000
DTSTAMP:20260420T105448
CREATED:20211105T220638Z
LAST-MODIFIED:20211105T220700Z
UID:6766-1637262000-1637269200@ignatius.nyc
SUMMARY:Ignatius Loyola - Mentor and Role Model for Men
DESCRIPTION:In the Parish House and on Zoom\n\nOur gathering will begin with Ignatian prayer followed by a short presentation and dialogue on the First Week of the Spiritual Exercises. Ignatius invites us to begin the Exercises by seeking to know ourselves\, including our shadow side\, completely. We are also called to receive God’s unconditional love. We will explore Ignatius’ guidance and wisdom for undertaking this sacred soul work.\n\nNew members are welcome!  Brian B. Pinter\, Pastoral Associate\, will facilitate. \nThe fully vaccinated may attend in person.   \nTo RSVP\, email simensgroup@aol.com.
URL:https://ignatius.nyc/event/ignatius-loyola-mentor-and-role-model-for-men-2/
LOCATION:Parish House\, 980 Park Avenue\, New York\, NY\, 10028\, United States
CATEGORIES:Community,Faith,Virtual
ORGANIZER;CN="Parish Men's Faith Group":MAILTO:simensgroup@aol.com
END:VEVENT
BEGIN:VEVENT
DTSTART;TZID=America/New_York:20210921T190000
DTEND;TZID=America/New_York:20210921T203000
DTSTAMP:20260420T105448
CREATED:20210916T202005Z
LAST-MODIFIED:20210916T202548Z
UID:6213-1632250800-1632256200@ignatius.nyc
SUMMARY:Ignatius Loyola: Mentor and Role Model for Men
DESCRIPTION:In the Parish House and on Zoom \n\nOur gathering will begin with introductions and Ignatian prayer followed by a short presentation and discussion. We will explore how Ignatius’ soldierly sense of discipline empowered him to persevere on his journey of self-discovery and discernment of God’s call. New members are welcome!  Brian B. Pinter\, Pastoral Associate\, will facilitate. \nNote: The fully vaccinated may attend in person.   \nTo register\, email simensgroup@aol.com.
URL:https://ignatius.nyc/event/ignatius-loyola-mentor-and-role-model-for-men/
LOCATION:Parish House\, 980 Park Avenue\, New York\, NY\, 10028\, United States
CATEGORIES:Community,Faith,Virtual
ORGANIZER;CN="Parish Men's Faith Group":MAILTO:simensgroup@aol.com
END:VEVENT
BEGIN:VEVENT
DTSTART;TZID=America/New_York:20210518T190000
DTEND;TZID=America/New_York:20210518T200000
DTSTAMP:20260420T105448
CREATED:20210514T221629Z
LAST-MODIFIED:20210514T221629Z
UID:5897-1621364400-1621368000@ignatius.nyc
SUMMARY:Parish Men's Faith Group: A Spirituality for Summer Vacation
DESCRIPTION:Sabbath rest is God’s command for our good\, not merely a wise suggestion. Summertime offers the opportunity for intentional time apart from our normal routines\, but why is it that vacations sometimes leave us feeling more tired?!  Our conversation will explore a spiritual approach to summer that might offer deeper rest and authentic renewal. \nBrian B. Pinter\, Pastoral Associate\, will present. \nRSVP to simensgroup@aol.com
URL:https://ignatius.nyc/event/parish-mens-faith-group-a-spirituality-for-summer-vacation/
LOCATION:Zoom
CATEGORIES:Community,Virtual
ATTACH;FMTTYPE=image/jpeg:https://ignatius.nyc//wp-content/uploads/2021/05/FamilyMainPhoto-e1621030577760.jpg
ORGANIZER;CN="Parish Men's Faith Group":MAILTO:simensgroup@aol.com
END:VEVENT
BEGIN:VEVENT
DTSTART;TZID=America/New_York:20210216T190000
DTEND;TZID=America/New_York:20210316T190000
DTSTAMP:20260420T105448
CREATED:20210204T172125Z
LAST-MODIFIED:20210204T172125Z
UID:5353-1613502000-1615921200@ignatius.nyc
SUMMARY:Parish Men's Faith Group: The Men of Lent
DESCRIPTION:Presentations and discussions will explore the men we encounter in the Sunday Lenten lectionary readings. Themes will include how we can serve as beacons of faith in a chaotic world\, how God works through our flaws and wounds\, learning to discern the voice of the inner prophet\, and saying yes to God’s invitation to vulnerability and surrender. \nThe February 16th gathering will focus on Noah\, Abraham\, and Cyrus; on March 16th\, we will visit Jeremiah\, Isaiah\, and Jesus. \nBrian B. Pinter\, Pastoral Associate\, will present and facilitate the discussion. \nTo RSVP\, email simensgroup@aol.com.
URL:https://ignatius.nyc/event/the-men-of-lent/2021-02-16/
LOCATION:Zoom
CATEGORIES:Lecture,Lent
ATTACH;FMTTYPE=image/jpeg:https://ignatius.nyc//wp-content/uploads/2021/02/Jesaja_Michelangelo-e1612459225401.jpg
ORGANIZER;CN="Parish Men's Faith Group":MAILTO:simensgroup@aol.com
END:VEVENT
END:VCALENDAR